BEGIN:VCALENDAR
VERSION:2.0
PRODID:-//Association of Lipspeakers With Additional Sign - ECPv6.15.20//NONSGML v1.0//EN
CALSCALE:GREGORIAN
METHOD:PUBLISH
X-WR-CALNAME:Association of Lipspeakers With Additional Sign
X-ORIGINAL-URL:https://lipspeakingwithsign.co.uk
X-WR-CALDESC:Events for Association of Lipspeakers With Additional Sign
REFRESH-INTERVAL;VALUE=DURATION:PT1H
X-Robots-Tag:noindex
X-PUBLISHED-TTL:PT1H
BEGIN:VTIMEZONE
TZID:Europe/London
BEGIN:DAYLIGHT
TZOFFSETFROM:+0000
TZOFFSETTO:+0100
TZNAME:BST
DTSTART:20180325T010000
END:DAYLIGHT
BEGIN:STANDARD
TZOFFSETFROM:+0100
TZOFFSETTO:+0000
TZNAME:GMT
DTSTART:20181028T010000
END:STANDARD
BEGIN:DAYLIGHT
TZOFFSETFROM:+0000
TZOFFSETTO:+0100
TZNAME:BST
DTSTART:20190331T010000
END:DAYLIGHT
BEGIN:STANDARD
TZOFFSETFROM:+0100
TZOFFSETTO:+0000
TZNAME:GMT
DTSTART:20191027T010000
END:STANDARD
BEGIN:DAYLIGHT
TZOFFSETFROM:+0000
TZOFFSETTO:+0100
TZNAME:BST
DTSTART:20200329T010000
END:DAYLIGHT
BEGIN:STANDARD
TZOFFSETFROM:+0100
TZOFFSETTO:+0000
TZNAME:GMT
DTSTART:20201025T010000
END:STANDARD
END:VTIMEZONE
BEGIN:VEVENT
DTSTART;VALUE=DATE:20190519
DTEND;VALUE=DATE:20190520
DTSTAMP:20260425T173838
CREATED:20190326T100332Z
LAST-MODIFIED:20190326T100457Z
UID:10000136-1558224000-1558310399@lipspeakingwithsign.co.uk
SUMMARY:W&T - Hampton Court With Marian Bacon
DESCRIPTION:Walks & Talks Event\nFor our spring Maytime walk we return to the theme of Royal gardens and parks with a visit to Hampton Court. We begin beside the river in East Molesey to take in one of the most famous views along the Thames.   We will explore the area where Henry VIII once pursued his dreams of chivalry and take a walk through the peacefulness of the Wilderness garden. \nWe will also drop into Bushy Park – a glorious Royal Park of over 1\,000 acres. \nMeeting point: Hampton Court Railway Station (also has car park). \nPlease note we are not entering the Palace or viewing the formal and privy gardens but you can decide to do this in the afternoon (entrance fee applicable). \nLynne Dubin\,  \nWalks&Talks for Lipreaders\,  \n48 Cunliffe Close\,Oxford OX2 7BL             \nE-mail: lynnedubin16@gmail.com \nWalks & Talks Programme 2019
URL:https://lipspeakingwithsign.co.uk/event/hamptoncourt/
LOCATION:Hampton Court Palace\, Molesey\, KT8 9AU\, United Kingdom
END:VEVENT
END:VCALENDAR